BEGIN:VCALENDAR
VERSION:2.0
PRODID:-//WSMPA - ECPv6.15.20//NONSGML v1.0//EN
CALSCALE:GREGORIAN
METHOD:PUBLISH
X-WR-CALNAME:WSMPA
X-ORIGINAL-URL:https://wspma.org
X-WR-CALDESC:Events for WSMPA
REFRESH-INTERVAL;VALUE=DURATION:PT1H
X-Robots-Tag:noindex
X-PUBLISHED-TTL:PT1H
BEGIN:VTIMEZONE
TZID:America/Los_Angeles
BEGIN:DAYLIGHT
TZOFFSETFROM:-0800
TZOFFSETTO:-0700
TZNAME:PDT
DTSTART:20220313T100000
END:DAYLIGHT
BEGIN:STANDARD
TZOFFSETFROM:-0700
TZOFFSETTO:-0800
TZNAME:PST
DTSTART:20221106T090000
END:STANDARD
BEGIN:DAYLIGHT
TZOFFSETFROM:-0800
TZOFFSETTO:-0700
TZNAME:PDT
DTSTART:20230312T100000
END:DAYLIGHT
BEGIN:STANDARD
TZOFFSETFROM:-0700
TZOFFSETTO:-0800
TZNAME:PST
DTSTART:20231105T090000
END:STANDARD
BEGIN:DAYLIGHT
TZOFFSETFROM:-0800
TZOFFSETTO:-0700
TZNAME:PDT
DTSTART:20240310T100000
END:DAYLIGHT
BEGIN:STANDARD
TZOFFSETFROM:-0700
TZOFFSETTO:-0800
TZNAME:PST
DTSTART:20241103T090000
END:STANDARD
END:VTIMEZONE
BEGIN:VEVENT
DTSTART;VALUE=DATE:20230508
DTEND;VALUE=DATE:20230513
DTSTAMP:20260421T125855
CREATED:20230412T052242Z
LAST-MODIFIED:20230412T052527Z
UID:12418-1683504000-1683935999@wspma.org
SUMMARY:APMA 2023 Advocacy Week
DESCRIPTION:Mark your calendars for APMA 2023 Advocacy Week\, May 8–12! Advocate for the future of the profession by getting involved in the following initiatives—a new topic for each day of the week: \n\nMonday: Use eAdvocacy (apma.org/eAdvocacy)\nTuesday: Tweet your Legislators (use hashtag #advocacymatters)\nWednesday: Virtual Advocacy Day\nThursday: Contribute to APMAPAC (apma.org/donate)\nFriday: Recruit Fellow Advocates\n\nThe 2023 APMA Virtual Advocacy Day will provide attendees an opportunity to interface directly with members and staff of the US Congress on Wednesday\, May 10. APMA has again partnered with Advocacy Associates\, a digital lobbying firm that specializes in virtual lobbying events in the nation’s capital. Register today!  \nAPMA Virtual Legislative Conference Information \nAPMA will schedule all of your meetings for you. All you have to do is be available on May 10. \nAPMA will provide you with all of the training materials and resources you need to have a successful meeting! \nWhile we have not yet confirmed the legislative issues to be discussed\, APMA will advocate on the legislative priorities of our members!
URL:https://wspma.org/event/apma-2023-advocacy-week/
LOCATION:Virtual
CATEGORIES:APMA Webinar
END:VEVENT
END:VCALENDAR