BEGIN:VCALENDAR
VERSION:2.0
PRODID:-//WSMPA - ECPv6.15.20//NONSGML v1.0//EN
CALSCALE:GREGORIAN
METHOD:PUBLISH
X-ORIGINAL-URL:https://wspma.org
X-WR-CALDESC:Events for WSMPA
REFRESH-INTERVAL;VALUE=DURATION:PT1H
X-Robots-Tag:noindex
X-PUBLISHED-TTL:PT1H
BEGIN:VTIMEZONE
TZID:America/Los_Angeles
BEGIN:DAYLIGHT
TZOFFSETFROM:-0800
TZOFFSETTO:-0700
TZNAME:PDT
DTSTART:20220313T100000
END:DAYLIGHT
BEGIN:STANDARD
TZOFFSETFROM:-0700
TZOFFSETTO:-0800
TZNAME:PST
DTSTART:20221106T090000
END:STANDARD
BEGIN:DAYLIGHT
TZOFFSETFROM:-0800
TZOFFSETTO:-0700
TZNAME:PDT
DTSTART:20230312T100000
END:DAYLIGHT
BEGIN:STANDARD
TZOFFSETFROM:-0700
TZOFFSETTO:-0800
TZNAME:PST
DTSTART:20231105T090000
END:STANDARD
BEGIN:DAYLIGHT
TZOFFSETFROM:-0800
TZOFFSETTO:-0700
TZNAME:PDT
DTSTART:20240310T100000
END:DAYLIGHT
BEGIN:STANDARD
TZOFFSETFROM:-0700
TZOFFSETTO:-0800
TZNAME:PST
DTSTART:20241103T090000
END:STANDARD
END:VTIMEZONE
BEGIN:VEVENT
DTSTART;TZID=America/Los_Angeles:20230426T170000
DTEND;TZID=America/Los_Angeles:20230426T180000
DTSTAMP:20260421T141748
CREATED:20230412T051654Z
LAST-MODIFIED:20230412T051835Z
UID:12414-1682528400-1682532000@wspma.org
SUMMARY:Evidence-Based Considerations for Cannabis Use in Chronic Pain Management and the Perioperative Period
DESCRIPTION:Evidence-Based Considerations for Cannabis Use in Chronic Pain Management and the Perioperative Period\nMember Exclusive\nFREE 1.0 CECH \nAPMA will host its webinar\, “Evidence-Based Considerations for Cannabis Use in Chronic Pain Management and the Perioperative Period\,” on April 26 at 5 p.m. PDT. Speaker Brant Hager\, MD\, will discuss treatment of patients who use cannabis for medical or recreational purposes. Attend this live event and earn 1.0 CECH. Register today!\nWebinar Website: Knowledge Direct (kdp.io)
URL:https://wspma.org/event/evidence-based-considerations-for-cannabis-use-in-chronic-pain-management-and-the-perioperative-period/
LOCATION:Webinar\, WA\, United States
CATEGORIES:APMA Webinar
END:VEVENT
END:VCALENDAR