BEGIN:VCALENDAR
VERSION:2.0
PRODID:-//WSMPA - ECPv6.15.20//NONSGML v1.0//EN
CALSCALE:GREGORIAN
METHOD:PUBLISH
X-WR-CALNAME:WSMPA
X-ORIGINAL-URL:https://wspma.org
X-WR-CALDESC:Events for WSMPA
REFRESH-INTERVAL;VALUE=DURATION:PT1H
X-Robots-Tag:noindex
X-PUBLISHED-TTL:PT1H
BEGIN:VTIMEZONE
TZID:America/Los_Angeles
BEGIN:DAYLIGHT
TZOFFSETFROM:-0800
TZOFFSETTO:-0700
TZNAME:PDT
DTSTART:20220313T100000
END:DAYLIGHT
BEGIN:STANDARD
TZOFFSETFROM:-0700
TZOFFSETTO:-0800
TZNAME:PST
DTSTART:20221106T090000
END:STANDARD
BEGIN:DAYLIGHT
TZOFFSETFROM:-0800
TZOFFSETTO:-0700
TZNAME:PDT
DTSTART:20230312T100000
END:DAYLIGHT
BEGIN:STANDARD
TZOFFSETFROM:-0700
TZOFFSETTO:-0800
TZNAME:PST
DTSTART:20231105T090000
END:STANDARD
BEGIN:DAYLIGHT
TZOFFSETFROM:-0800
TZOFFSETTO:-0700
TZNAME:PDT
DTSTART:20240310T100000
END:DAYLIGHT
BEGIN:STANDARD
TZOFFSETFROM:-0700
TZOFFSETTO:-0800
TZNAME:PST
DTSTART:20241103T090000
END:STANDARD
END:VTIMEZONE
BEGIN:VEVENT
DTSTART;TZID=America/Los_Angeles:20230422T070000
DTEND;TZID=America/Los_Angeles:20230422T120000
DTSTAMP:20260421T141354
CREATED:20230331T193719Z
LAST-MODIFIED:20230331T193835Z
UID:12390-1682146800-1682164800@wspma.org
SUMMARY:2023 APMA Spring Virtual Coding Seminar\, Foot & Ankle
DESCRIPTION:The 2023 APMA Spring Virtual Coding Seminar is a half-day online seminar that will provide attendees with a deep dive into foot- and ankle-specific coding issues. Certified professional coder Jeffrey D. Lehrman\, DPM\, will instruct participants on a variety of topics to enhance processes and better serve patients. \n\nDate: April 22\, 2023\nLocation: APMA Online Learning Center\nTime: 7 a.m.–12 p.m. PT\nEducation Credit:\n– Doctors of Podiatric Medicine: 4.0 CECH\n– Podiatric Medical Assistants: 4.0 CME\n– AAPC Certified Professional Coders: 4.0 CEUs\n\nRegister Here: 2023 Spring Virtual Coding Seminar\, Presented By APMA
URL:https://wspma.org/event/2023-apma-spring-virtual-coding-seminar-foot-ankle/
LOCATION:Webinar\, WA\, United States
CATEGORIES:APMA Webinar
END:VEVENT
END:VCALENDAR