BEGIN:VCALENDAR
VERSION:2.0
PRODID:-//WSMPA - ECPv6.15.20//NONSGML v1.0//EN
CALSCALE:GREGORIAN
METHOD:PUBLISH
X-WR-CALNAME:WSMPA
X-ORIGINAL-URL:https://wspma.org
X-WR-CALDESC:Events for WSMPA
REFRESH-INTERVAL;VALUE=DURATION:PT1H
X-Robots-Tag:noindex
X-PUBLISHED-TTL:PT1H
BEGIN:VTIMEZONE
TZID:America/Los_Angeles
BEGIN:DAYLIGHT
TZOFFSETFROM:-0800
TZOFFSETTO:-0700
TZNAME:PDT
DTSTART:20220313T100000
END:DAYLIGHT
BEGIN:STANDARD
TZOFFSETFROM:-0700
TZOFFSETTO:-0800
TZNAME:PST
DTSTART:20221106T090000
END:STANDARD
BEGIN:DAYLIGHT
TZOFFSETFROM:-0800
TZOFFSETTO:-0700
TZNAME:PDT
DTSTART:20230312T100000
END:DAYLIGHT
BEGIN:STANDARD
TZOFFSETFROM:-0700
TZOFFSETTO:-0800
TZNAME:PST
DTSTART:20231105T090000
END:STANDARD
BEGIN:DAYLIGHT
TZOFFSETFROM:-0800
TZOFFSETTO:-0700
TZNAME:PDT
DTSTART:20240310T100000
END:DAYLIGHT
BEGIN:STANDARD
TZOFFSETFROM:-0700
TZOFFSETTO:-0800
TZNAME:PST
DTSTART:20241103T090000
END:STANDARD
END:VTIMEZONE
BEGIN:VEVENT
DTSTART;TZID=America/Los_Angeles:20230615T170000
DTEND;TZID=America/Los_Angeles:20230615T170000
DTSTAMP:20260421T100533
CREATED:20230503T222929Z
LAST-MODIFIED:20230503T222929Z
UID:12436-1686848400-1686848400@wspma.org
SUMMARY:CCI Edits
DESCRIPTION:On June 15\, 2023\, APMA will host\nanother installment of its Coding Basics Webinar Series\, “CCI Edits.”\nSarah Abshier\, DPM\, and Alex Dellinger\, DPM\, will present. \nRegister Today! \nContact Information: For technical assistance\, contact the Health Policy and Practice Department.
URL:https://wspma.org/event/cci-edits/
LOCATION:Webinar\, WA\, United States
CATEGORIES:APMA Webinar
END:VEVENT
END:VCALENDAR