BEGIN:VCALENDAR
VERSION:2.0
PRODID:-//WSMPA - ECPv6.15.20//NONSGML v1.0//EN
CALSCALE:GREGORIAN
METHOD:PUBLISH
X-WR-CALNAME:WSMPA
X-ORIGINAL-URL:https://wspma.org
X-WR-CALDESC:Events for WSMPA
REFRESH-INTERVAL;VALUE=DURATION:PT1H
X-Robots-Tag:noindex
X-PUBLISHED-TTL:PT1H
BEGIN:VTIMEZONE
TZID:America/Los_Angeles
BEGIN:DAYLIGHT
TZOFFSETFROM:-0800
TZOFFSETTO:-0700
TZNAME:PDT
DTSTART:20210314T100000
END:DAYLIGHT
BEGIN:STANDARD
TZOFFSETFROM:-0700
TZOFFSETTO:-0800
TZNAME:PST
DTSTART:20211107T090000
END:STANDARD
BEGIN:DAYLIGHT
TZOFFSETFROM:-0800
TZOFFSETTO:-0700
TZNAME:PDT
DTSTART:20220313T100000
END:DAYLIGHT
BEGIN:STANDARD
TZOFFSETFROM:-0700
TZOFFSETTO:-0800
TZNAME:PST
DTSTART:20221106T090000
END:STANDARD
BEGIN:DAYLIGHT
TZOFFSETFROM:-0800
TZOFFSETTO:-0700
TZNAME:PDT
DTSTART:20230312T100000
END:DAYLIGHT
BEGIN:STANDARD
TZOFFSETFROM:-0700
TZOFFSETTO:-0800
TZNAME:PST
DTSTART:20231105T090000
END:STANDARD
END:VTIMEZONE
BEGIN:VEVENT
DTSTART;VALUE=DATE:20221203
DTEND;VALUE=DATE:20221205
DTSTAMP:20260421T184027
CREATED:20221017T052911Z
LAST-MODIFIED:20221017T052911Z
UID:12317-1670025600-1670198399@wspma.org
SUMMARY:APMA Clinical and Coding Education Seminar
DESCRIPTION:December 3-4\, 2022 \nAPMA Clinical and Coding Education Seminar \nThe 2022 APMA Coding and Clinical Education Seminar is a virtual education event to be held on December 3–4. The event will provide registrants with a total of 20.0 CECH through a combination of live instruction (four hours each on Saturday and Sunday) and on-demand courses. The event merges the popular Virtual Coding Seminar with additional clinical education to create a robust offering to meet the demonstrated need of virtual education. \nAPMA Online Learning Center \nContact Information: More information coming soon!
URL:https://wspma.org/event/apma-clinical-and-coding-education-seminar/
LOCATION:Webinar\, WA\, United States
CATEGORIES:APMA Webinar
END:VEVENT
BEGIN:VEVENT
DTSTART;TZID=America/Los_Angeles:20221214T170000
DTEND;TZID=America/Los_Angeles:20221214T190000
DTSTAMP:20260421T184027
CREATED:20221017T054556Z
LAST-MODIFIED:20221017T054556Z
UID:12330-1671037200-1671044400@wspma.org
SUMMARY:CPT/ICD-10 Update
DESCRIPTION:December 14\, 2022\n5:00 p.m. PST \nOnline Coding Basics Webinar: CPT/ICD-10 Update \nAPMA will host the eighth installment of its Coding Basics Webinar Series\, “CPT/ICD-10 Update.” Jeffrey Lehrman\, DPM\, and Sarah Abshier\, DPM will present. \nContact Information: For technical assistance\, contact the Health Policy and Practice Department. \nRegister Today!
URL:https://wspma.org/event/cpt-icd-10-update/
LOCATION:Webinar\, WA\, United States
CATEGORIES:APMA Webinar
END:VEVENT
END:VCALENDAR