BEGIN:VCALENDAR
VERSION:2.0
PRODID:-//WSMPA - ECPv6.15.20//NONSGML v1.0//EN
CALSCALE:GREGORIAN
METHOD:PUBLISH
X-ORIGINAL-URL:https://wspma.org
X-WR-CALDESC:Events for WSMPA
REFRESH-INTERVAL;VALUE=DURATION:PT1H
X-Robots-Tag:noindex
X-PUBLISHED-TTL:PT1H
BEGIN:VTIMEZONE
TZID:America/Los_Angeles
BEGIN:DAYLIGHT
TZOFFSETFROM:-0800
TZOFFSETTO:-0700
TZNAME:PDT
DTSTART:20210314T100000
END:DAYLIGHT
BEGIN:STANDARD
TZOFFSETFROM:-0700
TZOFFSETTO:-0800
TZNAME:PST
DTSTART:20211107T090000
END:STANDARD
BEGIN:DAYLIGHT
TZOFFSETFROM:-0800
TZOFFSETTO:-0700
TZNAME:PDT
DTSTART:20220313T100000
END:DAYLIGHT
BEGIN:STANDARD
TZOFFSETFROM:-0700
TZOFFSETTO:-0800
TZNAME:PST
DTSTART:20221106T090000
END:STANDARD
BEGIN:DAYLIGHT
TZOFFSETFROM:-0800
TZOFFSETTO:-0700
TZNAME:PDT
DTSTART:20230312T100000
END:DAYLIGHT
BEGIN:STANDARD
TZOFFSETFROM:-0700
TZOFFSETTO:-0800
TZNAME:PST
DTSTART:20231105T090000
END:STANDARD
END:VTIMEZONE
BEGIN:VEVENT
DTSTART;TZID=America/Los_Angeles:20221117T170000
DTEND;TZID=America/Los_Angeles:20221117T190000
DTSTAMP:20260421T201150
CREATED:20221017T051846Z
LAST-MODIFIED:20221017T052156Z
UID:12315-1668704400-1668711600@wspma.org
SUMMARY:E/M Update
DESCRIPTION:November 17\, 2022\n5:00 p.m. PST \nOnline Coding Basics Webinar: E/M Update \nAPMA will host the seventh installment of its Coding Basics Webinar Series\, “E/M Update.” Jeffrey Lehrman\, DPM\, and Michael King\, DPM\, will present. \nContact Information: For technical assistance\, contact the Health Policy and Practice Department. \nRegister Today!
URL:https://wspma.org/event/e-m-update/
LOCATION:Webinar\, WA\, United States
CATEGORIES:APMA Webinar
END:VEVENT
END:VCALENDAR